BEGIN:VCALENDAR
VERSION:2.0
PRODID:-//International Center for Climate Change and Development (ICCCAD) - ECPv6.10.2//NONSGML v1.0//EN
CALSCALE:GREGORIAN
METHOD:PUBLISH
X-ORIGINAL-URL:http://website.icccad.net
X-WR-CALDESC:Events for International Center for Climate Change and Development (ICCCAD)
REFRESH-INTERVAL;VALUE=DURATION:PT1H
X-Robots-Tag:noindex
X-PUBLISHED-TTL:PT1H
BEGIN:VTIMEZONE
TZID:Europe/Helsinki
BEGIN:DAYLIGHT
TZOFFSETFROM:+0200
TZOFFSETTO:+0300
TZNAME:EEST
DTSTART:20220327T010000
END:DAYLIGHT
BEGIN:STANDARD
TZOFFSETFROM:+0300
TZOFFSETTO:+0200
TZNAME:EET
DTSTART:20221030T010000
END:STANDARD
END:VTIMEZONE
BEGIN:VEVENT
DTSTART;TZID=Europe/Helsinki:20221117T151500
DTEND;TZID=Europe/Helsinki:20221117T161500
DTSTAMP:20260421T110438
CREATED:20221117T014810Z
LAST-MODIFIED:20221117T014810Z
UID:11023-1668698100-1668701700@website.icccad.net
SUMMARY:Launch of Loss & Damage Forum
DESCRIPTION:Launch of Loss & Damage Forum\, on 17 November 2022 15:15 – 16:15 (EGY) at LLA Pavilion (Area C). \nThe Loss and Damage Forum (LDF) which is a collaborative platform and virtual workspace where resources and tools are shared among a group of practitioners\, researchers and decision makers across the world\, with a prime focus of connecting local to global\, to support and address climate change induced loss and damage.\n\n  \nWith the hope of efficiently communicating the realities from the ground\, LDF will be showcasing stories in different regions. Through this event\, such lived experiences will be shared to proactively frame the discussions taking place over the course of the conference and generate both evidence and solutions.\nDownload Concept Note
URL:http://website.icccad.net/event/launch-of-loss-damage-forum/
CATEGORIES:COP Event
ATTACH;FMTTYPE=:
END:VEVENT
BEGIN:VEVENT
DTSTART;TZID=Europe/Helsinki:20221116T110000
DTEND;TZID=Europe/Helsinki:20221116T120000
DTSTAMP:20260421T110438
CREATED:20221116T043322Z
LAST-MODIFIED:20221116T043322Z
UID:11010-1668596400-1668600000@website.icccad.net
SUMMARY:Amplifying Stories on Loss and Damage And Climate Action
DESCRIPTION:‘Amplifying local voices: from loss and damage to local climate solutions’ organized by ICCCAD and SSN\, on 16 November 2022 11am-12pm at Resilience Hub (Area C). \nThe session will showcase local experiences\, voices and perspectives through storytelling\, media and representation from local spokespersons. The side event is expected to serve as a learning and exchange platform that brings together local civil society and citizens\, engaging in different forms of storytelling to share local experiences on loss and damage\, what it means for communities and livelihoods\, and concrete examples of locally-led climate action.\n\n\n\nThis joint session hosted by VCA\, SSN and ICCCAD will showcase local experiences\, voices and perspectives through storytelling\, media and representation from local spokespersons.\n\nClick Here To Register\n\nExample fallback content: This browser does not support PDFs. Please download the PDF to view it: Download PDF.
URL:http://website.icccad.net/event/amplifying-stories-on-loss-and-damage-and-climate-action/
CATEGORIES:COP Event
ATTACH;FMTTYPE=:
END:VEVENT
BEGIN:VEVENT
DTSTART;TZID=Europe/Helsinki:20221110T164500
DTEND;TZID=Europe/Helsinki:20221110T181500
DTSTAMP:20260421T110438
CREATED:20221110T064344Z
LAST-MODIFIED:20221110T064344Z
UID:10993-1668098700-1668104100@website.icccad.net
SUMMARY:Beyond dialogue to Action & Support to avert\, minimize and address loss and damage
DESCRIPTION:ACT2025 Official Side Event ‘Beyond dialogue to Action & Support to avert\, minimize and address loss and damage’ today\, 10th November from 16.45 – 18.15 (EGY | GMT+2) at Room Amon (150)\, Blue Zone.\nWith loss and damage being a major agenda in the UNFCCC negotiations and beyond\, the Allied for Climate Transformation by 2025 (ACT2025) consortium aims to bring together negotiators and L&D actors from countries which have demonstrated an interest in finding solutions and to getting finance flowing. The speakers will discuss this pressing topic and the contours of an outcome at COP27 and beyond.\nClick Here To Register\n\nExample fallback content: This browser does not support PDFs. Please download the PDF to view it: Download PDF.
URL:http://website.icccad.net/event/beyond-dialogue-to-action-support-to-avert-minimize-and-address-loss-and-damage/
CATEGORIES:COP Event,Dialogue
ATTACH;FMTTYPE=:
END:VEVENT
END:VCALENDAR